BEGIN:VCALENDAR
VERSION:2.0
PRODID:-//Tukios.com/
BEGIN:VEVENT
UID:c7200942-8590-4de8-9e69-debf1d680cba@www.pacestancil.com
DTSTAMP:20260422T004823Z
DTSTART:20260423T190000Z
DTEND:20260423T210000Z
SUMMARY:Visitation
DESCRIPTION:
URL:https://www.pacestancil.com/obituaries/boyd-parish
LOCATION: 1304 N Cleveland St  Dayton TX 77535
GEO:30.0521642;-94.8960916
END:VEVENT
END:VCALENDAR