BEGIN:VCALENDAR
VERSION:2.0
PRODID:-//Tukios.com/
BEGIN:VEVENT
UID:31f056b2-a63a-4547-b17f-9b1026b2ea0b@www.pacestancil.com
DTSTAMP:20260422T004905Z
DTSTART:20260423T210000Z
DTEND:20260423T220000Z
SUMMARY:Memorial Service
DESCRIPTION:
URL:https://www.pacestancil.com/obituaries/boyd-parish
LOCATION: 1304 N Cleveland St  Dayton TX 77535
GEO:30.0521642;-94.8960916
END:VEVENT
END:VCALENDAR