BEGIN:VCALENDAR
VERSION:2.0
PRODID:-//Tukios.com/
BEGIN:VEVENT
UID:19453ce2-74e9-44ed-a837-8ab7256c4602@www.pacestancil.com
DTSTAMP:20260424T151707Z
DTSTART:20260502T190000Z
DTEND:20260502T200000Z
SUMMARY:Celebration of Life
DESCRIPTION:
URL:https://www.pacestancil.com/obituaries/lillian-lockhart
LOCATION: 303 E Crockett St  Cleveland TX 77327
GEO:30.3426676;-95.0852797
END:VEVENT
END:VCALENDAR